BEGIN:VCALENDAR
CALSCALE:GREGORIAN
X-WR-TIMEZONE;VALUE=TEXT:Europe/Stockholm
METHOD:PUBLISH
PRODID:-//Apple Computer, Inc//iCal 1.0//EN
X-WR-CALNAME;VALUE=TEXT:Styrelsemöte 18.00
X-WR-TIMEZONE;VALUE=TEXT:Europe/Stockholm
VERSION:2.0
BEGIN:VEVENT
SUMMARY:Styrelsemöte 18.00
DTSTART:20240731T180000
DTEND:20240731T190000
URL:https://www.mclouisklubben.se/atlas/calendar/event.php?id=708308
END:VEVENT
END:VCALENDAR
