BEGIN:VCALENDAR
CALSCALE:GREGORIAN
X-WR-TIMEZONE;VALUE=TEXT:Europe/Stockholm
METHOD:PUBLISH
PRODID:-//Apple Computer, Inc//iCal 1.0//EN
X-WR-CALNAME;VALUE=TEXT:Allt för Sjön i Älsvjö med en avd. för husbil o husvagn den 14 - 17 mars.
X-WR-TIMEZONE;VALUE=TEXT:Europe/Stockholm
VERSION:2.0
BEGIN:VEVENT
SUMMARY:Allt för Sjön i Älsvjö med en avd. för husbil o husvagn den 14 - 17 mars.
DTSTART:20240314
DTEND:20240314
URL:https://www.mclouisklubben.se/atlas/calendar/event.php?id=708233
END:VEVENT
END:VCALENDAR
