BEGIN:VCALENDAR
CALSCALE:GREGORIAN
X-WR-TIMEZONE;VALUE=TEXT:Europe/Stockholm
METHOD:PUBLISH
PRODID:-//Apple Computer, Inc//iCal 1.0//EN
X-WR-CALNAME;VALUE=TEXT:Årsmöte - Digitalt
X-WR-TIMEZONE;VALUE=TEXT:Europe/Stockholm
VERSION:2.0
BEGIN:VEVENT
SUMMARY:Årsmöte - Digitalt
DTSTART:20200508
DTEND:20200508
URL:https://www.mclouisklubben.se/atlas/calendar/event.php?id=707282
END:VEVENT
END:VCALENDAR
